BEGIN:VCALENDAR
VERSION:2.0
PRODID:-//Tukios.com/
BEGIN:VEVENT
UID:2d9f6709-16d5-4c8e-a6fa-f7a9d145391b@www.newcomercolumbus.com
DTSTAMP:20260421T225958Z
DTSTART:20260509T190000Z
DTEND:20260509T200000Z
SUMMARY:Memorial Service
DESCRIPTION:
URL:https://www.newcomercolumbus.com/obituaries/amy-unkefer
LOCATION: 3047 E Dublin Granville Rd  Columbus OH 43231
GEO:40.0808122;-82.935255
END:VEVENT
END:VCALENDAR