BEGIN:VCALENDAR
VERSION:2.0
PRODID:-//Tukios.com/
BEGIN:VEVENT
UID:61417035-48aa-4cfa-86c0-5b9b6b6436ba@www.newcomercolumbus.com
DTSTAMP:20260421T193532Z
DTSTART:20260423T220000Z
DTEND:20260423T230000Z
SUMMARY:Funeral Service
DESCRIPTION:
URL:https://www.newcomercolumbus.com/obituaries/chris-shidaker
LOCATION: 3393 Broadway  Grove City OH 43123
GEO:39.8948603;-83.0834605
END:VEVENT
END:VCALENDAR