BEGIN:VCALENDAR
VERSION:2.0
PRODID:-//Tukios.com/
BEGIN:VEVENT
UID:61d609cb-f915-4ab4-8e0c-fd82d6d4bb04@www.newcomercolumbus.com
DTSTAMP:20260421T193836Z
DTSTART:20260424T170000Z
DTEND:20260424T180000Z
SUMMARY:Graveside Service
DESCRIPTION:
URL:https://www.newcomercolumbus.com/obituaries/chris-shidaker
LOCATION:Oak Dale Cemetery 1290 W Fifth St.  Marysville  43040
GEO:40.2435223;-83.3929604
END:VEVENT
END:VCALENDAR