BEGIN:VCALENDAR
VERSION:2.0
PRODID:-//Tukios.com/
BEGIN:VEVENT
UID:45f282a6-a26e-4e66-b79d-780b94f2ba6e@www.newcomercolumbus.com
DTSTAMP:20260424T003123Z
DTSTART:20260429T163000Z
DTEND:20260429T173000Z
SUMMARY:Visitation
DESCRIPTION:
URL:https://www.newcomercolumbus.com/obituaries/david-kalb-jr
LOCATION: 3393 Broadway  Grove City OH 43123
GEO:39.8948603;-83.0834605
END:VEVENT
END:VCALENDAR