BEGIN:VCALENDAR
VERSION:2.0
PRODID:-//Tukios.com/
BEGIN:VEVENT
UID:8cfa6c47-20f4-491f-860f-5d9cab74223c@www.newcomercolumbus.com
DTSTAMP:20260424T003331Z
DTSTART:20260429T183000Z
DTEND:20260429T193000Z
SUMMARY:Graveside Service
DESCRIPTION:
URL:https://www.newcomercolumbus.com/obituaries/david-kalb-jr
LOCATION: 6959 W Broad St  Galloway OH 43119
GEO:39.949681;-83.185209
END:VEVENT
END:VCALENDAR