BEGIN:VCALENDAR
VERSION:2.0
PRODID:-//Tukios.com/
BEGIN:VEVENT
UID:d698121b-5293-4c97-9ccf-a56f6c9c8fa2@www.newcomercolumbus.com
DTSTAMP:20260424T235242Z
DTSTART:20260429T230000Z
DTEND:20260430T000000Z
SUMMARY:Memorial Service
DESCRIPTION:
URL:https://www.newcomercolumbus.com/obituaries/gaige-doyle
LOCATION:Newcomer, SW Chapel 3393 Broadway  Grove City OH 43123
GEO:39.8948603;-83.0834605
END:VEVENT
END:VCALENDAR