BEGIN:VCALENDAR
VERSION:2.0
PRODID:-//Tukios.com/
BEGIN:VEVENT
UID:bb8e0c02-696a-404c-b92f-0f60d5378992@www.newcomercolumbus.com
DTSTAMP:20260420T192156Z
DTSTART:20260423T200000Z
DTEND:20260424T000000Z
SUMMARY:Memorial Gathering
DESCRIPTION:
URL:https://www.newcomercolumbus.com/obituaries/gib-bickel
LOCATION: 3047 E Dublin Granville Rd  Columbus OH 43231
GEO:40.0808122;-82.935255
END:VEVENT
END:VCALENDAR