BEGIN:VCALENDAR
VERSION:2.0
PRODID:-//Tukios.com/
BEGIN:VEVENT
UID:3dbde73c-84e6-4d37-94e7-1c47ec1af821@www.newcomercolumbus.com
DTSTAMP:20260422T173831Z
DTSTART:20260424T133000Z
DTEND:20260424T150000Z
SUMMARY:Visitation
DESCRIPTION:
URL:https://www.newcomercolumbus.com/obituaries/herbert-clark
LOCATION:First Baptist Church of Grove City 3301 Orders Road  Grove City 
	OH 43123
GEO:39.8581283;-83.0799304
END:VEVENT
END:VCALENDAR