BEGIN:VCALENDAR
VERSION:2.0
PRODID:-//Tukios.com/
BEGIN:VEVENT
UID:c5afa828-65b7-4321-8cf2-de2ae53e6afc@www.newcomercolumbus.com
DTSTAMP:20260422T173133Z
DTSTART:20260424T150000Z
DTEND:20260424T160000Z
SUMMARY:Funeral Service
DESCRIPTION:
URL:https://www.newcomercolumbus.com/obituaries/herbert-clark
LOCATION:First Baptist Church of Grove City 3301 Orders Road  Grove City 
	OH 43123
GEO:39.8581283;-83.0799304
END:VEVENT
END:VCALENDAR