BEGIN:VCALENDAR
VERSION:2.0
PRODID:-//Tukios.com/
BEGIN:VEVENT
UID:6f60bb5e-5c4c-4a11-ae62-59fec82ff63e@www.newcomercolumbus.com
DTSTAMP:20260421T091738Z
DTSTART:20260422
SUMMARY:Burial
DESCRIPTION:
URL:https://www.newcomercolumbus.com/obituaries/james-eric-williams
LOCATION: 6959 W Broad St  Galloway OH 43119
GEO:39.949681;-83.185209
END:VEVENT
END:VCALENDAR