BEGIN:VCALENDAR
VERSION:2.0
PRODID:-//Tukios.com/
BEGIN:VEVENT
UID:709e679d-e42e-4e0d-9cf9-50ebd1a5f5fb@www.newcomercolumbus.com
DTSTAMP:20260422T204841Z
DTSTART:20260428T140000Z
DTEND:20260428T150000Z
SUMMARY:Graveside Service
DESCRIPTION:
URL:https://www.newcomercolumbus.com/obituaries/john-mullins
LOCATION: 4455 Groveport Road  Obetz OH 43207
GEO:39.8754599;-82.947792
END:VEVENT
END:VCALENDAR