BEGIN:VCALENDAR
VERSION:2.0
PRODID:-//Tukios.com/
BEGIN:VEVENT
UID:1857faf4-c1e1-42cd-8549-b587f09cfe85@www.newcomercolumbus.com
DTSTAMP:20260419T203324Z
DTSTART:20260430T210000Z
DTEND:20260430T230000Z
SUMMARY:Memorial Gathering
DESCRIPTION:
URL:https://www.newcomercolumbus.com/obituaries/myra-binns
LOCATION:Newcomer, SW Chapel 3393 Broadway  Grove City OH 43123
GEO:39.8948437;-83.0834889
END:VEVENT
END:VCALENDAR