BEGIN:VCALENDAR
VERSION:2.0
PRODID:-//Tukios.com/
BEGIN:VEVENT
UID:2a95b3b1-d171-4a2a-9101-b5e58ee89c7a@www.newcomercolumbus.com
DTSTAMP:20260421T160517Z
DTSTART:20260422T163000Z
DTEND:20260422T180000Z
SUMMARY:Prayer Service
DESCRIPTION:
URL:https://www.newcomercolumbus.com/obituaries/nimil-peethambaran
LOCATION: 10051 Brewster Ln  Powell OH 43065
GEO:40.1527186;-83.0933997
END:VEVENT
END:VCALENDAR