BEGIN:VCALENDAR
VERSION:2.0
PRODID:-//Tukios.com/
BEGIN:VEVENT
UID:b49f21f9-b7a5-460c-ba50-23b855dd1445@www.newcomercolumbus.com
DTSTAMP:20260421T004032Z
DTSTART:20260421T160000Z
DTEND:20260421T190000Z
SUMMARY:Prayer Service
DESCRIPTION:
URL:https://www.newcomercolumbus.com/obituaries/radha-viswanathan
LOCATION: 10051 Brewster Lane  Powell OH 43065
GEO:40.1525802;-83.093338
END:VEVENT
END:VCALENDAR