BEGIN:VCALENDAR
VERSION:2.0
PRODID:-//Tukios.com/
BEGIN:VEVENT
UID:e719bdf2-f922-496c-95b2-717a69ad96bb@www.newcomercolumbus.com
DTSTAMP:20260425T225017Z
DTSTART:20260430T150000Z
DTEND:20260430T160000Z
SUMMARY:Visitation
DESCRIPTION:
URL:https://www.newcomercolumbus.com/obituaries/rosie-harber
LOCATION: 3047 E Dublin Granville Rd  Columbus OH 43231
GEO:40.0808122;-82.935255
END:VEVENT
END:VCALENDAR