BEGIN:VCALENDAR
VERSION:2.0
PRODID:-//Tukios.com/
BEGIN:VEVENT
UID:b170c1fb-f28a-42dd-bad3-b3c2d37d90cb@www.newcomercolumbus.com
DTSTAMP:20260425T225613Z
DTSTART:20260430T160000Z
DTEND:20260430T170000Z
SUMMARY:Funeral Service
DESCRIPTION:
URL:https://www.newcomercolumbus.com/obituaries/rosie-harber
LOCATION: 3047 E Dublin Granville Rd  Columbus OH 43231
GEO:40.0808122;-82.935255
END:VEVENT
END:VCALENDAR