BEGIN:VCALENDAR
VERSION:2.0
PRODID:-//Tukios.com/
BEGIN:VEVENT
UID:2f2acc16-ab8d-4722-b42f-0d4a055cc157@www.newcomercolumbus.com
DTSTAMP:20260420T183507Z
DTSTART:20260423T140000Z
DTEND:20260423T150000Z
SUMMARY:Visitation
DESCRIPTION:
URL:https://www.newcomercolumbus.com/obituaries/roy-bertram
LOCATION: 3393 Broadway  Grove City OH 43123
GEO:39.8948603;-83.0834605
END:VEVENT
END:VCALENDAR