BEGIN:VCALENDAR
VERSION:2.0
PRODID:-//Tukios.com/
BEGIN:VEVENT
UID:8fbc6b31-b301-44ee-b24c-ce39b1d59182@www.newcomercolumbus.com
DTSTAMP:20260420T183810Z
DTSTART:20260423T150000Z
DTEND:20260423T160000Z
SUMMARY:Funeral Service
DESCRIPTION:
URL:https://www.newcomercolumbus.com/obituaries/roy-bertram
LOCATION: 3393 Broadway  Grove City OH 43123
GEO:39.8948603;-83.0834605
END:VEVENT
END:VCALENDAR