BEGIN:VCALENDAR
VERSION:2.0
PRODID:-//Tukios.com/
BEGIN:VEVENT
UID:c572e6b6-533f-4e05-800d-0c3dc7bb46b6@www.newcomercolumbus.com
DTSTAMP:20260420T184043Z
DTSTART:20260423T160000Z
DTEND:20260423T170000Z
SUMMARY:Graveside Service
DESCRIPTION:
URL:https://www.newcomercolumbus.com/obituaries/roy-bertram
LOCATION: 1000 Greenlawn Avenue  Columbus OH 43223
GEO:39.938854;-83.030483
END:VEVENT
END:VCALENDAR