BEGIN:VCALENDAR
VERSION:2.0
PRODID:-//Tukios.com/
BEGIN:VEVENT
UID:c503b5f5-1b0e-41c1-89f0-e50ab29779b7@www.newcomercolumbus.com
DTSTAMP:20260423T184343Z
DTSTART:20260427T180000Z
DTEND:20260427T200000Z
SUMMARY:Visitation
DESCRIPTION:
URL:https://www.newcomercolumbus.com/obituaries/sharon-porter
LOCATION: 3393 Broadway  Grove City OH 43123
GEO:39.8948603;-83.0834605
END:VEVENT
END:VCALENDAR