BEGIN:VCALENDAR
VERSION:2.0
PRODID:-//Tukios.com/
BEGIN:VEVENT
UID:2de37fc4-ee83-4e35-b4c7-a9d173d0c24a@www.newcomercolumbus.com
DTSTAMP:20260423T184142Z
DTSTART:20260427T220000Z
DTEND:20260428T000000Z
SUMMARY:Visitation
DESCRIPTION:
URL:https://www.newcomercolumbus.com/obituaries/sharon-porter
LOCATION: 3393 Broadway  Grove City OH 43123
GEO:39.8948437;-83.0834889
END:VEVENT
END:VCALENDAR