BEGIN:VCALENDAR
VERSION:2.0
PRODID:-//Tukios.com/
BEGIN:VEVENT
UID:1cf3452c-69d2-4c57-8932-d26fab9487f7@www.newcomercolumbus.com
DTSTAMP:20260423T184343Z
DTSTART:20260428T180000Z
DTEND:20260428T190000Z
SUMMARY:Funeral Service
DESCRIPTION:
URL:https://www.newcomercolumbus.com/obituaries/sharon-porter
LOCATION: 3393 Broadway  Grove City OH 43123
GEO:39.8948437;-83.0834889
END:VEVENT
END:VCALENDAR