BEGIN:VCALENDAR
VERSION:2.0
PRODID:-//Tukios.com/
BEGIN:VEVENT
UID:0b1fce56-0dd3-4ef0-8b74-ecfc3b41dce7@www.newcomercolumbus.com
DTSTAMP:20260423T184027Z
DTSTART:20260428
SUMMARY:Graveside Service
DESCRIPTION:
URL:https://www.newcomercolumbus.com/obituaries/sharon-porter
LOCATION:  Groveport Road  Obetz OH 
GEO:39.8681898;-82.9349648
END:VEVENT
END:VCALENDAR